BEGIN:VCALENDAR
VERSION:2.0
PRODID:-// - ECPv6.15.20//NONSGML v1.0//EN
CALSCALE:GREGORIAN
METHOD:PUBLISH
X-ORIGINAL-URL:https://sortir04.com
X-WR-CALDESC:Évènements pour 
REFRESH-INTERVAL;VALUE=DURATION:PT1H
X-Robots-Tag:noindex
X-PUBLISHED-TTL:PT1H
BEGIN:VTIMEZONE
TZID:Europe/Paris
BEGIN:DAYLIGHT
TZOFFSETFROM:+0100
TZOFFSETTO:+0200
TZNAME:CEST
DTSTART:20250330T010000
END:DAYLIGHT
BEGIN:STANDARD
TZOFFSETFROM:+0200
TZOFFSETTO:+0100
TZNAME:CET
DTSTART:20251026T010000
END:STANDARD
BEGIN:DAYLIGHT
TZOFFSETFROM:+0100
TZOFFSETTO:+0200
TZNAME:CEST
DTSTART:20260329T010000
END:DAYLIGHT
BEGIN:STANDARD
TZOFFSETFROM:+0200
TZOFFSETTO:+0100
TZNAME:CET
DTSTART:20261025T010000
END:STANDARD
BEGIN:DAYLIGHT
TZOFFSETFROM:+0100
TZOFFSETTO:+0200
TZNAME:CEST
DTSTART:20270328T010000
END:DAYLIGHT
BEGIN:STANDARD
TZOFFSETFROM:+0200
TZOFFSETTO:+0100
TZNAME:CET
DTSTART:20271031T010000
END:STANDARD
END:VTIMEZONE
BEGIN:VEVENT
DTSTART;TZID=Europe/Paris:20260208T140000
DTEND;TZID=Europe/Paris:20260208T170000
DTSTAMP:20260422T014930
CREATED:20260129T120034Z
LAST-MODIFIED:20260129T120034Z
UID:544-1770559200-1770570000@sortir04.com
SUMMARY:Loto le brusquet 8 février
DESCRIPTION:
URL:https://sortir04.com/event/loto-le-brusquet-8-fevrier/
CATEGORIES:loto
ATTACH;FMTTYPE=image/jpeg:https://sortir04.com/wp-content/uploads/2026/01/FB_IMG_1769514773452.jpg
END:VEVENT
BEGIN:VEVENT
DTSTART;TZID=Europe/Paris:20260208T150000
DTEND;TZID=Europe/Paris:20260208T170000
DTSTAMP:20260422T014930
CREATED:20260122T131111Z
LAST-MODIFIED:20260122T131111Z
UID:452-1770562800-1770570000@sortir04.com
SUMMARY:Loto 8 février le Brusquet
DESCRIPTION:
URL:https://sortir04.com/event/loto-8-fevrier-le-brusquet/
CATEGORIES:loto
END:VEVENT
BEGIN:VEVENT
DTSTART;TZID=Europe/Paris:20260208T150000
DTEND;TZID=Europe/Paris:20260208T170000
DTSTAMP:20260422T014930
CREATED:20260122T135155Z
LAST-MODIFIED:20260122T135155Z
UID:474-1770562800-1770570000@sortir04.com
SUMMARY:Loto 8 février Forcalquier 15 h
DESCRIPTION:
URL:https://sortir04.com/event/loto-8-fevrier-forcalquier-15-h/
CATEGORIES:loto
ATTACH;FMTTYPE=image/jpeg:https://sortir04.com/wp-content/uploads/2026/01/FB_IMG_1769078268309.jpg
END:VEVENT
END:VCALENDAR