BEGIN:VCALENDAR
VERSION:2.0
PRODID:-// - ECPv6.15.20//NONSGML v1.0//EN
CALSCALE:GREGORIAN
METHOD:PUBLISH
X-ORIGINAL-URL:https://sortir04.com
X-WR-CALDESC:Évènements pour 
REFRESH-INTERVAL;VALUE=DURATION:PT1H
X-Robots-Tag:noindex
X-PUBLISHED-TTL:PT1H
BEGIN:VTIMEZONE
TZID:Europe/Paris
BEGIN:DAYLIGHT
TZOFFSETFROM:+0100
TZOFFSETTO:+0200
TZNAME:CEST
DTSTART:20250330T010000
END:DAYLIGHT
BEGIN:STANDARD
TZOFFSETFROM:+0200
TZOFFSETTO:+0100
TZNAME:CET
DTSTART:20251026T010000
END:STANDARD
BEGIN:DAYLIGHT
TZOFFSETFROM:+0100
TZOFFSETTO:+0200
TZNAME:CEST
DTSTART:20260329T010000
END:DAYLIGHT
BEGIN:STANDARD
TZOFFSETFROM:+0200
TZOFFSETTO:+0100
TZNAME:CET
DTSTART:20261025T010000
END:STANDARD
BEGIN:DAYLIGHT
TZOFFSETFROM:+0100
TZOFFSETTO:+0200
TZNAME:CEST
DTSTART:20270328T010000
END:DAYLIGHT
BEGIN:STANDARD
TZOFFSETFROM:+0200
TZOFFSETTO:+0100
TZNAME:CET
DTSTART:20271031T010000
END:STANDARD
END:VTIMEZONE
BEGIN:VEVENT
DTSTART;TZID=Europe/Paris:20260201T150000
DTEND;TZID=Europe/Paris:20260201T170000
DTSTAMP:20260421T201249
CREATED:20260122T131350Z
LAST-MODIFIED:20260122T131350Z
UID:454-1769958000-1769965200@sortir04.com
SUMMARY:Concert Orphéon lavande Aiglun 1 février
DESCRIPTION:
URL:https://sortir04.com/event/concert-orpheon-lavande-aiglun-1-fevrier/
CATEGORIES:concerts,soirées musique
ATTACH;FMTTYPE=image/jpeg:https://sortir04.com/wp-content/uploads/2026/01/FB_IMG_1769079224008.jpg
END:VEVENT
BEGIN:VEVENT
DTSTART;TZID=Europe/Paris:20260215T170000
DTEND;TZID=Europe/Paris:20260215T180000
DTSTAMP:20260421T201249
CREATED:20260129T114923Z
LAST-MODIFIED:20260129T114923Z
UID:538-1771174800-1771178400@sortir04.com
SUMMARY:Histoires d'humour de Provence 15 Février 2026 17 h
DESCRIPTION:
URL:https://sortir04.com/event/histoires-dhumour-de-provence-15-fevrier-2026-17-h/
CATEGORIES:soirées thèmes
ATTACH;FMTTYPE=image/jpeg:https://sortir04.com/wp-content/uploads/2026/01/FB_IMG_1769596850508.jpg
END:VEVENT
END:VCALENDAR