BEGIN:VCALENDAR
VERSION:2.0
PRODID:-// - ECPv6.15.20//NONSGML v1.0//EN
CALSCALE:GREGORIAN
METHOD:PUBLISH
X-ORIGINAL-URL:https://sortir04.com
X-WR-CALDESC:Évènements pour 
REFRESH-INTERVAL;VALUE=DURATION:PT1H
X-Robots-Tag:noindex
X-PUBLISHED-TTL:PT1H
BEGIN:VTIMEZONE
TZID:Europe/Paris
BEGIN:DAYLIGHT
TZOFFSETFROM:+0100
TZOFFSETTO:+0200
TZNAME:CEST
DTSTART:20250330T010000
END:DAYLIGHT
BEGIN:STANDARD
TZOFFSETFROM:+0200
TZOFFSETTO:+0100
TZNAME:CET
DTSTART:20251026T010000
END:STANDARD
BEGIN:DAYLIGHT
TZOFFSETFROM:+0100
TZOFFSETTO:+0200
TZNAME:CEST
DTSTART:20260329T010000
END:DAYLIGHT
BEGIN:STANDARD
TZOFFSETFROM:+0200
TZOFFSETTO:+0100
TZNAME:CET
DTSTART:20261025T010000
END:STANDARD
BEGIN:DAYLIGHT
TZOFFSETFROM:+0100
TZOFFSETTO:+0200
TZNAME:CEST
DTSTART:20270328T010000
END:DAYLIGHT
BEGIN:STANDARD
TZOFFSETFROM:+0200
TZOFFSETTO:+0100
TZNAME:CET
DTSTART:20271031T010000
END:STANDARD
END:VTIMEZONE
BEGIN:VEVENT
DTSTART;TZID=Europe/Paris:20260221T110000
DTEND;TZID=Europe/Paris:20260221T120000
DTSTAMP:20260422T011316
CREATED:20260212T165338Z
LAST-MODIFIED:20260212T165338Z
UID:575-1771671600-1771675200@sortir04.com
SUMMARY:Le philosophe et romancier Gaspard koening 21 février le bleuet Banon 11h
DESCRIPTION:  \nAuteur de livres aussi variés que remarqués – « Notre vagabonde liberté : à cheval sur les traces de Montaigne »\, « Humus » (Prix interallié et prix Giono)\, « Agrophilosophie »\, Gaspard Koenig publie « Aqua » (L’Observatoire\, janvier 2026). \nSur fond de crise de l’eau\, ce roman met en scène de manière réaliste et documentée une communauté rurale prise dans des contradictions contemporaines\, entre désir d’autonomie\, apathie citoyenne\, arcanes de la politique locale et tutelle de l’Etat providence. Comment gérer des ressources naturelles qui se raréfient ? Peut-on encore « faire village » ? \nAu programme : présentation du roman\, lectures\, échanges\, dédicaces. \nBuffet partagé à l’issue de la rencontre : apportez un salé ou un sucré\, le Bleuet offre les boissons.
URL:https://sortir04.com/event/le-philosophe-et-romancier-gaspard-koening-21-fevrier-le-bleuet-banon-11h/
CATEGORIES:conférence,Lecture
ATTACH;FMTTYPE=image/png:https://sortir04.com/wp-content/uploads/2026/02/unnamed.png
END:VEVENT
END:VCALENDAR