BEGIN:VCALENDAR
VERSION:2.0
PRODID:-// - ECPv6.15.20//NONSGML v1.0//EN
CALSCALE:GREGORIAN
METHOD:PUBLISH
X-ORIGINAL-URL:https://sortir04.com
X-WR-CALDESC:Évènements pour 
REFRESH-INTERVAL;VALUE=DURATION:PT1H
X-Robots-Tag:noindex
X-PUBLISHED-TTL:PT1H
BEGIN:VTIMEZONE
TZID:Europe/Paris
BEGIN:DAYLIGHT
TZOFFSETFROM:+0100
TZOFFSETTO:+0200
TZNAME:CEST
DTSTART:20250330T010000
END:DAYLIGHT
BEGIN:STANDARD
TZOFFSETFROM:+0200
TZOFFSETTO:+0100
TZNAME:CET
DTSTART:20251026T010000
END:STANDARD
BEGIN:DAYLIGHT
TZOFFSETFROM:+0100
TZOFFSETTO:+0200
TZNAME:CEST
DTSTART:20260329T010000
END:DAYLIGHT
BEGIN:STANDARD
TZOFFSETFROM:+0200
TZOFFSETTO:+0100
TZNAME:CET
DTSTART:20261025T010000
END:STANDARD
BEGIN:DAYLIGHT
TZOFFSETFROM:+0100
TZOFFSETTO:+0200
TZNAME:CEST
DTSTART:20270328T010000
END:DAYLIGHT
BEGIN:STANDARD
TZOFFSETFROM:+0200
TZOFFSETTO:+0100
TZNAME:CET
DTSTART:20271031T010000
END:STANDARD
END:VTIMEZONE
BEGIN:VEVENT
DTSTART;VALUE=DATE:20260207
DTEND;VALUE=DATE:20260329
DTSTAMP:20260422T025902
CREATED:20260212T164157Z
LAST-MODIFIED:20260212T164157Z
UID:572-1770422400-1774742399@sortir04.com
SUMMARY:« Entre terres et mer : collection du FRAOP » à Sisteron du  7 février au 28 mars 2026
DESCRIPTION: Entre terres et mer : collection du FRAOP » \n  \n Espace d’Ornano – Musée gallo-romain\, Sisteron \nPrésentée du 7 février au 28 mars 2026\, cette exposition propose une sélection de 25 œuvres issues de la collection du FRAOP (Fonds Régional d’Acquisition d’Œuvres Provençales)\, mettant à l’honneur la période 1840-1950 et les grandes figures de l’École provençale. \nÀ travers des artistes emblématiques tels que Loubon\, Guigou\, ainsi que Verdilhan\, Seyssaud\, Casile\, cette présentation valorise un mouvement artistique régional fort\, entre art et territoire\, profondément ancré dans l’identité du Sud. \nInformations pratiques : \n Entrée gratuite \n Ouverture au public : du mardi au samedi\, 10h–12h / 14h–18h (fermé lundi et dimanche) \n Musée gallo-romain – Espace d’Ornano \n8 rue Saunerie\, 04200 Sisteron
URL:https://sortir04.com/event/entre-terres-et-mer-collection-du-fraop-a-sisteron-du-7-fevrier-au-28-mars-2026/
CATEGORIES:expositions
ATTACH;FMTTYPE=image/png:https://sortir04.com/wp-content/uploads/2026/02/Capture-decran-2026-02-12-173332.png
END:VEVENT
END:VCALENDAR