BEGIN:VCALENDAR
VERSION:2.0
PRODID:-// - ECPv6.15.20//NONSGML v1.0//EN
CALSCALE:GREGORIAN
METHOD:PUBLISH
X-ORIGINAL-URL:https://sortir04.com
X-WR-CALDESC:Évènements pour 
REFRESH-INTERVAL;VALUE=DURATION:PT1H
X-Robots-Tag:noindex
X-PUBLISHED-TTL:PT1H
BEGIN:VTIMEZONE
TZID:Europe/Paris
BEGIN:DAYLIGHT
TZOFFSETFROM:+0100
TZOFFSETTO:+0200
TZNAME:CEST
DTSTART:20250330T010000
END:DAYLIGHT
BEGIN:STANDARD
TZOFFSETFROM:+0200
TZOFFSETTO:+0100
TZNAME:CET
DTSTART:20251026T010000
END:STANDARD
BEGIN:DAYLIGHT
TZOFFSETFROM:+0100
TZOFFSETTO:+0200
TZNAME:CEST
DTSTART:20260329T010000
END:DAYLIGHT
BEGIN:STANDARD
TZOFFSETFROM:+0200
TZOFFSETTO:+0100
TZNAME:CET
DTSTART:20261025T010000
END:STANDARD
BEGIN:DAYLIGHT
TZOFFSETFROM:+0100
TZOFFSETTO:+0200
TZNAME:CEST
DTSTART:20270328T010000
END:DAYLIGHT
BEGIN:STANDARD
TZOFFSETFROM:+0200
TZOFFSETTO:+0100
TZNAME:CET
DTSTART:20271031T010000
END:STANDARD
END:VTIMEZONE
BEGIN:VEVENT
DTSTART;TZID=Europe/Paris:20260122T173000
DTEND;TZID=Europe/Paris:20260310T180000
DTSTAMP:20260421T171823
CREATED:20260122T125817Z
LAST-MODIFIED:20260122T125817Z
UID:443-1769103000-1773165600@sortir04.com
SUMMARY:Les apéros contés à Manosque 10 mars
DESCRIPTION:
URL:https://sortir04.com/event/les-aperos-contes-a-manosque-10-mars/
CATEGORIES:soirées thèmes
ATTACH;FMTTYPE=image/jpeg:https://sortir04.com/wp-content/uploads/2026/01/FB_IMG_1769079313856.jpg
END:VEVENT
BEGIN:VEVENT
DTSTART;VALUE=DATE:20260201
DTEND;VALUE=DATE:20260202
DTSTAMP:20260421T171823
CREATED:20260122T134859Z
LAST-MODIFIED:20260122T134859Z
UID:472-1769904000-1769990399@sortir04.com
SUMMARY:Repas dansant 1 février "Si on dansait"
DESCRIPTION:
URL:https://sortir04.com/event/repas-dansant-1-fevrier-si-on-dansait/
CATEGORIES:soirées musique,soirées thèmes
ATTACH;FMTTYPE=image/jpeg:https://sortir04.com/wp-content/uploads/2026/01/FB_IMG_1769078985454.jpg
END:VEVENT
BEGIN:VEVENT
DTSTART;TZID=Europe/Paris:20260201T150000
DTEND;TZID=Europe/Paris:20260201T170000
DTSTAMP:20260421T171823
CREATED:20260122T130804Z
LAST-MODIFIED:20260122T130804Z
UID:450-1769958000-1769965200@sortir04.com
SUMMARY:Loto 1 février à Valensole
DESCRIPTION:
URL:https://sortir04.com/event/loto-1-fevrier-a-valensole/
CATEGORIES:loto
ATTACH;FMTTYPE=image/jpeg:https://sortir04.com/wp-content/uploads/2026/01/FB_IMG_1769079254234.jpg
END:VEVENT
BEGIN:VEVENT
DTSTART;TZID=Europe/Paris:20260201T150000
DTEND;TZID=Europe/Paris:20260201T170000
DTSTAMP:20260421T171823
CREATED:20260122T131350Z
LAST-MODIFIED:20260122T131350Z
UID:454-1769958000-1769965200@sortir04.com
SUMMARY:Concert Orphéon lavande Aiglun 1 février
DESCRIPTION:
URL:https://sortir04.com/event/concert-orpheon-lavande-aiglun-1-fevrier/
CATEGORIES:concerts,soirées musique
ATTACH;FMTTYPE=image/jpeg:https://sortir04.com/wp-content/uploads/2026/01/FB_IMG_1769079224008.jpg
END:VEVENT
END:VCALENDAR